BEGIN:VCALENDAR
VERSION:2.0
PRODID:-//Orchard Ridge Summer Activites - ECPv6.15.20//NONSGML v1.0//EN
CALSCALE:GREGORIAN
METHOD:PUBLISH
X-WR-CALNAME:Orchard Ridge Summer Activites
X-ORIGINAL-URL:https://orccswim.com
X-WR-CALDESC:Events for Orchard Ridge Summer Activites
REFRESH-INTERVAL;VALUE=DURATION:PT1H
X-Robots-Tag:noindex
X-PUBLISHED-TTL:PT1H
BEGIN:VTIMEZONE
TZID:UTC
BEGIN:STANDARD
TZOFFSETFROM:+0000
TZOFFSETTO:+0000
TZNAME:UTC
DTSTART:20210101T000000
END:STANDARD
END:VTIMEZONE
BEGIN:VTIMEZONE
TZID:Asia/Karachi
BEGIN:STANDARD
TZOFFSETFROM:+0500
TZOFFSETTO:+0500
TZNAME:PKT
DTSTART:20200101T000000
END:STANDARD
END:VTIMEZONE
BEGIN:VEVENT
DTSTART;TZID=UTC:20220727T173000
DTEND;TZID=UTC:20220727T210000
DTSTAMP:20260422T115639
CREATED:20220328T224850Z
LAST-MODIFIED:20220328T224850Z
UID:10000088-1658943000-1658955600@orccswim.com
SUMMARY:Swim & Dive Team Awards Banquet
DESCRIPTION:Swim & Dive Team participants and their parents are invited to attend our 2022 Awards Banquet!  Always a great time!  RSVPs required.  See swim team email with details.
URL:https://orccswim.com/event/swim-dive-team-awards-banquet/
LOCATION:Orchard Ridge Country Club\, 4531 Lower Huntington Rd.\, Fort Wayne\, 46809\, United States
CATEGORIES:Meal
GEO:41.012303;-85.197013
X-APPLE-STRUCTURED-LOCATION;VALUE=URI;X-ADDRESS=Orchard Ridge Country Club 4531 Lower Huntington Rd. Fort Wayne 46809 United States;X-APPLE-RADIUS=500;X-TITLE=4531 Lower Huntington Rd.:geo:-85.197013,41.012303
END:VEVENT
BEGIN:VEVENT
DTSTART;TZID=UTC:20220530T100000
DTEND;TZID=UTC:20220530T210000
DTSTAMP:20260422T115639
CREATED:20220328T212911Z
LAST-MODIFIED:20220328T212911Z
UID:10000133-1653904800-1653944400@orccswim.com
SUMMARY:Memorial Day Party!
DESCRIPTION:Come out to the club to enjoy a fun time at the pool\, tennis courts and golf course. Evening cookout and entertainment to kick the summer off!
URL:https://orccswim.com/event/memorial-day-party/
LOCATION:Orchard Ridge Country Club\, 4531 Lower Huntington Rd.\, Fort Wayne\, 46809\, United States
CATEGORIES:Meal,Pool
GEO:41.012303;-85.197013
X-APPLE-STRUCTURED-LOCATION;VALUE=URI;X-ADDRESS=Orchard Ridge Country Club 4531 Lower Huntington Rd. Fort Wayne 46809 United States;X-APPLE-RADIUS=500;X-TITLE=4531 Lower Huntington Rd.:geo:-85.197013,41.012303
END:VEVENT
BEGIN:VEVENT
DTSTART;TZID=Asia/Karachi:20210425T110000
DTEND;TZID=Asia/Karachi:20210425T130000
DTSTAMP:20260422T115639
CREATED:20210322T052932Z
LAST-MODIFIED:20210322T052932Z
UID:10000091-1619348400-1619355600@orccswim.com
SUMMARY:Registration & Brunch
DESCRIPTION:Join us from 11 am until 1 pm for our annual Brunch!
URL:https://orccswim.com/event/registration-brunch/
LOCATION:Orchard Ridge Country Club\, 4531 Lower Huntington Rd.\, Fort Wayne\, 46809\, United States
CATEGORIES:Meal
GEO:41.012303;-85.197013
X-APPLE-STRUCTURED-LOCATION;VALUE=URI;X-ADDRESS=Orchard Ridge Country Club 4531 Lower Huntington Rd. Fort Wayne 46809 United States;X-APPLE-RADIUS=500;X-TITLE=4531 Lower Huntington Rd.:geo:-85.197013,41.012303
END:VEVENT
END:VCALENDAR